BEGIN:VCALENDAR
VERSION:2.0
PRODID:-//Chateauneuf sur Loire en Transition - ECPv6.15.20//NONSGML v1.0//EN
CALSCALE:GREGORIAN
METHOD:PUBLISH
X-WR-CALNAME:Chateauneuf sur Loire en Transition
X-ORIGINAL-URL:https://csl-transition.fr
X-WR-CALDESC:Évènements pour Chateauneuf sur Loire en Transition
REFRESH-INTERVAL;VALUE=DURATION:PT1H
X-Robots-Tag:noindex
X-PUBLISHED-TTL:PT1H
BEGIN:VTIMEZONE
TZID:Europe/Paris
BEGIN:DAYLIGHT
TZOFFSETFROM:+0100
TZOFFSETTO:+0200
TZNAME:CEST
DTSTART:20240331T010000
END:DAYLIGHT
BEGIN:STANDARD
TZOFFSETFROM:+0200
TZOFFSETTO:+0100
TZNAME:CET
DTSTART:20241027T010000
END:STANDARD
BEGIN:DAYLIGHT
TZOFFSETFROM:+0100
TZOFFSETTO:+0200
TZNAME:CEST
DTSTART:20250330T010000
END:DAYLIGHT
BEGIN:STANDARD
TZOFFSETFROM:+0200
TZOFFSETTO:+0100
TZNAME:CET
DTSTART:20251026T010000
END:STANDARD
BEGIN:DAYLIGHT
TZOFFSETFROM:+0100
TZOFFSETTO:+0200
TZNAME:CEST
DTSTART:20260329T010000
END:DAYLIGHT
BEGIN:STANDARD
TZOFFSETFROM:+0200
TZOFFSETTO:+0100
TZNAME:CET
DTSTART:20261025T010000
END:STANDARD
END:VTIMEZONE
BEGIN:VEVENT
DTSTART;TZID=Europe/Paris:20250814T200000
DTEND;TZID=Europe/Paris:20250826T230000
DTSTAMP:20260425T141817
CREATED:20250711T084008Z
LAST-MODIFIED:20250711T084008Z
UID:2824-1755201600-1756249200@csl-transition.fr
SUMMARY:Fermeture estivale de La Maison de la Transition
DESCRIPTION:Le Café associatif\, les ateliers\, les soirées jeux … seront sur pause du 14 au 26 août. 
URL:https://csl-transition.fr/evenement/fermeture-estivale-de-la-maison-de-la-transition/
LOCATION:Maison de la Transition\, 9\, Place de la Halle Saint-Pierre\, Châteauneuf-sur-Loire\, 45110\, France
CATEGORIES:Soirée Jeux
END:VEVENT
END:VCALENDAR