BEGIN:VCALENDAR
VERSION:2.0
PRODID:-//Chateauneuf sur Loire en Transition - ECPv6.15.20//NONSGML v1.0//EN
CALSCALE:GREGORIAN
METHOD:PUBLISH
X-ORIGINAL-URL:https://csl-transition.fr
X-WR-CALDESC:Évènements pour Chateauneuf sur Loire en Transition
REFRESH-INTERVAL;VALUE=DURATION:PT1H
X-Robots-Tag:noindex
X-PUBLISHED-TTL:PT1H
BEGIN:VTIMEZONE
TZID:Europe/Paris
BEGIN:DAYLIGHT
TZOFFSETFROM:+0100
TZOFFSETTO:+0200
TZNAME:CEST
DTSTART:20240331T010000
END:DAYLIGHT
BEGIN:STANDARD
TZOFFSETFROM:+0200
TZOFFSETTO:+0100
TZNAME:CET
DTSTART:20241027T010000
END:STANDARD
BEGIN:DAYLIGHT
TZOFFSETFROM:+0100
TZOFFSETTO:+0200
TZNAME:CEST
DTSTART:20250330T010000
END:DAYLIGHT
BEGIN:STANDARD
TZOFFSETFROM:+0200
TZOFFSETTO:+0100
TZNAME:CET
DTSTART:20251026T010000
END:STANDARD
BEGIN:DAYLIGHT
TZOFFSETFROM:+0100
TZOFFSETTO:+0200
TZNAME:CEST
DTSTART:20260329T010000
END:DAYLIGHT
BEGIN:STANDARD
TZOFFSETFROM:+0200
TZOFFSETTO:+0100
TZNAME:CET
DTSTART:20261025T010000
END:STANDARD
END:VTIMEZONE
BEGIN:VEVENT
DTSTART;TZID=Europe/Paris:20250607T180000
DTEND;TZID=Europe/Paris:20250607T200000
DTSTAMP:20260425T174729
CREATED:20250407T083127Z
LAST-MODIFIED:20250515T075220Z
UID:2717-1749319200-1749326400@csl-transition.fr
SUMMARY:Sortie atelier Photos\, parc de Châteauneuf
DESCRIPTION:Avec votre smartphone ou votre appareil photo\, rendez-vous à la Maison de la Transition à 18h
URL:https://csl-transition.fr/evenement/sortie-atelier-photos-parc-de-chateauneuf/
LOCATION:Maison de la Transition\, 9\, Place de la Halle Saint-Pierre\, Châteauneuf-sur-Loire\, 45110\, France
CATEGORIES:Animation extérieure
ATTACH;FMTTYPE=image/jpeg:https://csl-transition.fr/wp-content/uploads/2025/05/2025-06-07-sortie-photo.jpg
END:VEVENT
BEGIN:VEVENT
DTSTART;TZID=Europe/Paris:20250613T180000
DTEND;TZID=Europe/Paris:20250613T200000
DTSTAMP:20260425T174729
CREATED:20250407T083506Z
LAST-MODIFIED:20250515T075258Z
UID:2719-1749837600-1749844800@csl-transition.fr
SUMMARY:Partage sur le thème du compost
DESCRIPTION:Entrée libre
URL:https://csl-transition.fr/evenement/partage-sur-le-theme-du-compost/
CATEGORIES:Papote de la transition
ATTACH;FMTTYPE=image/jpeg:https://csl-transition.fr/wp-content/uploads/2025/05/2025-06-13-papote_2.jpg
END:VEVENT
BEGIN:VEVENT
DTSTART;TZID=Europe/Paris:20250614T200000
DTEND;TZID=Europe/Paris:20250614T230000
DTSTAMP:20260425T174729
CREATED:20250315T151229Z
LAST-MODIFIED:20250605T090053Z
UID:2686-1749931200-1749942000@csl-transition.fr
SUMMARY:Soirée jeux de société
DESCRIPTION:Des jeux sont disponibles sur place\, mais vous pouvez aussi apporter les vôtres ! C’est l’occasion parfaite de jouer en famille\, entre amis\, ou avec d’autres participants. Les enfants sont les bienvenus (sous la responsabilité des parents).  \nVenez et repartez quand vous le souhaitez\, sans contrainte !
URL:https://csl-transition.fr/evenement/soiree-jeux-de-societe-7/
LOCATION:Maison de la Transition\, 9\, Place de la Halle Saint-Pierre\, Châteauneuf-sur-Loire\, 45110\, France
CATEGORIES:Soirée Jeux
ATTACH;FMTTYPE=image/jpeg:https://csl-transition.fr/wp-content/uploads/2025/01/soiree_jeux_-scaled.jpg
END:VEVENT
BEGIN:VEVENT
DTSTART;TZID=Europe/Paris:20250617T180000
DTEND;TZID=Europe/Paris:20250617T200000
DTSTAMP:20260425T174729
CREATED:20250515T073936Z
LAST-MODIFIED:20250515T073936Z
UID:2767-1750183200-1750190400@csl-transition.fr
SUMMARY:Atelier "soin de soi\, soin du visage"
DESCRIPTION:Participation libre et consciente
URL:https://csl-transition.fr/evenement/atelier-soin-de-soi-soin-du-visage/
CATEGORIES:Atelier bien-être
ATTACH;FMTTYPE=image/jpeg:https://csl-transition.fr/wp-content/uploads/2025/05/2025-06-17-atelier-soin-du-visage-Astrid.jpg
END:VEVENT
BEGIN:VEVENT
DTSTART;TZID=Europe/Paris:20250626T203000
DTEND;TZID=Europe/Paris:20250626T223000
DTSTAMP:20260425T174729
CREATED:20250515T074734Z
LAST-MODIFIED:20250605T085237Z
UID:2769-1750969800-1750977000@csl-transition.fr
SUMMARY:Soirée cinéma cinémobile + intervenants : "Vivre avec les loups"
DESCRIPTION:CSLT vous propose une soirée cinéma\, en partenariat avec le cinémobile – Ciclic : « Vivre avec les loups » de Jean-Michel Bertrand \nLa projection sera suivie d’un moment d’échange autour d’un verre de l’amitié. \nAvec la présence de 2 intervenants : Anne Moreau (réseau régional FERUS) et Denis Miège (éducateur à l’environnement). \nAvec de surprenantes rencontres humaines et animales\, le réalisateur nous entraine dans des réflexions naturalistes et philosophiques sur la nature. \nParking espace Florian à Châteauneuf sur Loire
URL:https://csl-transition.fr/evenement/soiree-cinema-cinemobile-intervenants-vivre-avec-les-loups/
LOCATION:Cinemobile Chateauneuf
CATEGORIES:Animation extérieure
ATTACH;FMTTYPE=image/jpeg:https://csl-transition.fr/wp-content/uploads/2025/05/vivre-avec-les-loups.jpg
END:VEVENT
END:VCALENDAR