BEGIN:VCALENDAR
VERSION:2.0
PRODID:-//Chateauneuf sur Loire en Transition - ECPv6.15.20//NONSGML v1.0//EN
CALSCALE:GREGORIAN
METHOD:PUBLISH
X-ORIGINAL-URL:https://csl-transition.fr
X-WR-CALDESC:Évènements pour Chateauneuf sur Loire en Transition
REFRESH-INTERVAL;VALUE=DURATION:PT1H
X-Robots-Tag:noindex
X-PUBLISHED-TTL:PT1H
BEGIN:VTIMEZONE
TZID:Europe/Paris
BEGIN:DAYLIGHT
TZOFFSETFROM:+0100
TZOFFSETTO:+0200
TZNAME:CEST
DTSTART:20240331T010000
END:DAYLIGHT
BEGIN:STANDARD
TZOFFSETFROM:+0200
TZOFFSETTO:+0100
TZNAME:CET
DTSTART:20241027T010000
END:STANDARD
BEGIN:DAYLIGHT
TZOFFSETFROM:+0100
TZOFFSETTO:+0200
TZNAME:CEST
DTSTART:20250330T010000
END:DAYLIGHT
BEGIN:STANDARD
TZOFFSETFROM:+0200
TZOFFSETTO:+0100
TZNAME:CET
DTSTART:20251026T010000
END:STANDARD
BEGIN:DAYLIGHT
TZOFFSETFROM:+0100
TZOFFSETTO:+0200
TZNAME:CEST
DTSTART:20260329T010000
END:DAYLIGHT
BEGIN:STANDARD
TZOFFSETFROM:+0200
TZOFFSETTO:+0100
TZNAME:CET
DTSTART:20261025T010000
END:STANDARD
END:VTIMEZONE
BEGIN:VEVENT
DTSTART;TZID=Europe/Paris:20250721T193000
DTEND;TZID=Europe/Paris:20250721T223000
DTSTAMP:20260420T045103
CREATED:20250628T155828Z
LAST-MODIFIED:20250628T155828Z
UID:2798-1753126200-1753137000@csl-transition.fr
SUMMARY:Concert : SAXONIUM
DESCRIPTION:Musique du monde\, classique\, Jazz…\nCette formation de saxophonistes prend la route à vélo pour tout l’été afin de rencontrer des habitants\, touristes\, et tous ceux qui voudront les accueillir. \nIls proposent un voyage musical diversifié\, inspiré par leurs parcours variés\, allant du jazz aux musiques du monde en passant par le classique. \nTout public \nEntrée libre  – Participation libre et consciente    Rdv à la Maison de la Transition
URL:https://csl-transition.fr/evenement/concert-saxonium/
LOCATION:Maison de la Transition\, 9\, Place de la Halle Saint-Pierre\, Châteauneuf-sur-Loire\, 45110\, France
CATEGORIES:Concert
ATTACH;FMTTYPE=image/png:https://csl-transition.fr/wp-content/uploads/2025/06/Saxonium-04.png
END:VEVENT
END:VCALENDAR