BEGIN:VCALENDAR
VERSION:2.0
PRODID:-//Chateauneuf sur Loire en Transition - ECPv6.15.20//NONSGML v1.0//EN
CALSCALE:GREGORIAN
METHOD:PUBLISH
X-ORIGINAL-URL:https://csl-transition.fr
X-WR-CALDESC:Évènements pour Chateauneuf sur Loire en Transition
REFRESH-INTERVAL;VALUE=DURATION:PT1H
X-Robots-Tag:noindex
X-PUBLISHED-TTL:PT1H
BEGIN:VTIMEZONE
TZID:Europe/Paris
BEGIN:DAYLIGHT
TZOFFSETFROM:+0100
TZOFFSETTO:+0200
TZNAME:CEST
DTSTART:20240331T010000
END:DAYLIGHT
BEGIN:STANDARD
TZOFFSETFROM:+0200
TZOFFSETTO:+0100
TZNAME:CET
DTSTART:20241027T010000
END:STANDARD
BEGIN:DAYLIGHT
TZOFFSETFROM:+0100
TZOFFSETTO:+0200
TZNAME:CEST
DTSTART:20250330T010000
END:DAYLIGHT
BEGIN:STANDARD
TZOFFSETFROM:+0200
TZOFFSETTO:+0100
TZNAME:CET
DTSTART:20251026T010000
END:STANDARD
BEGIN:DAYLIGHT
TZOFFSETFROM:+0100
TZOFFSETTO:+0200
TZNAME:CEST
DTSTART:20260329T010000
END:DAYLIGHT
BEGIN:STANDARD
TZOFFSETFROM:+0200
TZOFFSETTO:+0100
TZNAME:CET
DTSTART:20261025T010000
END:STANDARD
END:VTIMEZONE
BEGIN:VEVENT
DTSTART;TZID=Europe/Paris:20250425T200000
DTEND;TZID=Europe/Paris:20250425T230000
DTSTAMP:20260420T101122
CREATED:20250401T091646Z
LAST-MODIFIED:20250401T091646Z
UID:2701-1745611200-1745622000@csl-transition.fr
SUMMARY:Spectacle Solo-clowne : Gisèle
DESCRIPTION:GISELE\, un spectacle de Charlotte Girault\, La Légère Compagnie\, pour aborder la maladie d’Alzheimer\, la vieillesse et la mort avec la dose d’humour\, de sensibilité et d’amour  nécessaires pour parler de sujets aussi délicats. \nLe spectacle est né suite à une formation pour accompagner les personnes en fin de vie. \nGisèle s’échappe de la maison de retraite\, nous échappe et s’échappe à elle-même… tellement touchante ! \nUn plongeon dans une folie tragi-comique ou se mêlent jeux de mots\, mime et clown. Le public s’embarque dans un voyage déroutant où il navigue du rire aux\nlarmes. \nLien pour découvrir le teaser :\nextrait spectacle \nPrix libre et conscient    Rdv à la Maison de la Transition \nTout public à partir de 8 ans
URL:https://csl-transition.fr/evenement/spectacle-solo-clowne-gisele/
LOCATION:Maison de la Transition\, 9\, Place de la Halle Saint-Pierre\, Châteauneuf-sur-Loire\, 45110\, France
CATEGORIES:Concert
ATTACH;FMTTYPE=image/jpeg:https://csl-transition.fr/wp-content/uploads/2025/04/clowne.jpg
END:VEVENT
BEGIN:VEVENT
DTSTART;TZID=Europe/Paris:20250426T103000
DTEND;TZID=Europe/Paris:20250426T120000
DTSTAMP:20260420T101122
CREATED:20250401T092152Z
LAST-MODIFIED:20250401T092152Z
UID:2706-1745663400-1745668800@csl-transition.fr
SUMMARY:Spectacle jeune public : "Au coin d'la ruche"
DESCRIPTION:Le spectacle va nous faire découvrir\, avec amusement\, le fonctionnement d’une ruche  et les différentes fonctions des abeilles\, au travers d’un univers burlesque\, de contes traditionnels\, de visites mimées\, de moments dansés\, d’instants musicaux (violoncelle + accordéon). \nVenez rencontrer le sergent-instructeur ZAP et l’abeille nouvelle-née ZIP le temps d’un voyage minuscule et gigantesque à partager en famille. \nSpectacle de théâtre\, conte et musique de Bénédicte Bianchin et Olivier Courtemanche \, Compagnie Allo Maman bobo. \nLien pour en savoir + :\ninfos spectacle \nRdv à la Maison de la Transition – Prix libre et conscient \nSpectacle pour enfants à partir de 4 ans \n 
URL:https://csl-transition.fr/evenement/spectacle-jeune-public-au-coin-dla-ruche/
LOCATION:Maison de la Transition\, 9\, Place de la Halle Saint-Pierre\, Châteauneuf-sur-Loire\, 45110\, France
CATEGORIES:Concert
ATTACH;FMTTYPE=image/jpeg:https://csl-transition.fr/wp-content/uploads/2025/04/spectacle-ruche.jpeg
END:VEVENT
END:VCALENDAR