BEGIN:VCALENDAR
VERSION:2.0
PRODID:-//Chateauneuf sur Loire en Transition - ECPv6.15.20//NONSGML v1.0//EN
CALSCALE:GREGORIAN
METHOD:PUBLISH
X-ORIGINAL-URL:https://csl-transition.fr
X-WR-CALDESC:Évènements pour Chateauneuf sur Loire en Transition
REFRESH-INTERVAL;VALUE=DURATION:PT1H
X-Robots-Tag:noindex
X-PUBLISHED-TTL:PT1H
BEGIN:VTIMEZONE
TZID:Europe/Paris
BEGIN:DAYLIGHT
TZOFFSETFROM:+0100
TZOFFSETTO:+0200
TZNAME:CEST
DTSTART:20240331T010000
END:DAYLIGHT
BEGIN:STANDARD
TZOFFSETFROM:+0200
TZOFFSETTO:+0100
TZNAME:CET
DTSTART:20241027T010000
END:STANDARD
BEGIN:DAYLIGHT
TZOFFSETFROM:+0100
TZOFFSETTO:+0200
TZNAME:CEST
DTSTART:20250330T010000
END:DAYLIGHT
BEGIN:STANDARD
TZOFFSETFROM:+0200
TZOFFSETTO:+0100
TZNAME:CET
DTSTART:20251026T010000
END:STANDARD
BEGIN:DAYLIGHT
TZOFFSETFROM:+0100
TZOFFSETTO:+0200
TZNAME:CEST
DTSTART:20260329T010000
END:DAYLIGHT
BEGIN:STANDARD
TZOFFSETFROM:+0200
TZOFFSETTO:+0100
TZNAME:CET
DTSTART:20261025T010000
END:STANDARD
END:VTIMEZONE
BEGIN:VEVENT
DTSTART;TZID=Europe/Paris:20250124T180000
DTEND;TZID=Europe/Paris:20250124T190000
DTSTAMP:20260422T155123
CREATED:20250121T103045Z
LAST-MODIFIED:20250121T103933Z
UID:1809-1737741600-1737745200@csl-transition.fr
SUMMARY:Le 2e Cercle Action
DESCRIPTION:Pot convivial de début d’année. \nUne soirée qui regroupe le 2e cercle et le pot convivial de début d’année.\nLe vendredi 24 janvier à 18h \nLe programme de cette soirée\, sera 3 en 1 :\n– Cercle Action : temps animé.\n– Apéro dinatoire partagé\n– Galette offerte par l’association \n★ Le Cercle action\, ce n’est pas une réunion\, ni un temps de travail mais un temps collectif animé et constructif. \n★ Date maximum pour s’inscrire : 15 janvier 2025.
URL:https://csl-transition.fr/evenement/le-2e-cercle-action/
LOCATION:Maison de la Transition\, 9\, Place de la Halle Saint-Pierre\, Châteauneuf-sur-Loire\, 45110\, France
CATEGORIES:Cercle Action
ATTACH;FMTTYPE=image/png:https://csl-transition.fr/wp-content/uploads/2025/01/Acte-n°2.png
END:VEVENT
END:VCALENDAR