BEGIN:VCALENDAR
VERSION:2.0
PRODID:-//Chateauneuf sur Loire en Transition - ECPv6.15.20//NONSGML v1.0//EN
CALSCALE:GREGORIAN
METHOD:PUBLISH
X-ORIGINAL-URL:https://csl-transition.fr
X-WR-CALDESC:Évènements pour Chateauneuf sur Loire en Transition
REFRESH-INTERVAL;VALUE=DURATION:PT1H
X-Robots-Tag:noindex
X-PUBLISHED-TTL:PT1H
BEGIN:VTIMEZONE
TZID:Europe/Paris
BEGIN:DAYLIGHT
TZOFFSETFROM:+0100
TZOFFSETTO:+0200
TZNAME:CEST
DTSTART:20240331T010000
END:DAYLIGHT
BEGIN:STANDARD
TZOFFSETFROM:+0200
TZOFFSETTO:+0100
TZNAME:CET
DTSTART:20241027T010000
END:STANDARD
BEGIN:DAYLIGHT
TZOFFSETFROM:+0100
TZOFFSETTO:+0200
TZNAME:CEST
DTSTART:20250330T010000
END:DAYLIGHT
BEGIN:STANDARD
TZOFFSETFROM:+0200
TZOFFSETTO:+0100
TZNAME:CET
DTSTART:20251026T010000
END:STANDARD
BEGIN:DAYLIGHT
TZOFFSETFROM:+0100
TZOFFSETTO:+0200
TZNAME:CEST
DTSTART:20260329T010000
END:DAYLIGHT
BEGIN:STANDARD
TZOFFSETFROM:+0200
TZOFFSETTO:+0100
TZNAME:CET
DTSTART:20261025T010000
END:STANDARD
END:VTIMEZONE
BEGIN:VEVENT
DTSTART;TZID=Europe/Paris:20250307T110000
DTEND;TZID=Europe/Paris:20250307T130000
DTSTAMP:20260421T190500
CREATED:20250227T125737Z
LAST-MODIFIED:20250227T125737Z
UID:2650-1741345200-1741352400@csl-transition.fr
SUMMARY:Atelier cuisine
DESCRIPTION:Nous vous proposons un atelier cuisine\, venez découvrir une recette de Françis. Rendez-vous à 11h à la maison de la Transition. Nous ferons un repas partagé ensemble à 12h. Les frais seront divisés selon le nombre de convives. Places limité à 6 personnes.
URL:https://csl-transition.fr/evenement/atelier-cuisine/
LOCATION:Maison de la Transition\, 9\, Place de la Halle Saint-Pierre\, Châteauneuf-sur-Loire\, 45110\, France
CATEGORIES:Atelier cuisine
ATTACH;FMTTYPE=image/png:https://csl-transition.fr/wp-content/uploads/2025/02/Jnr0bGZOQL2hLj6a.png
END:VEVENT
END:VCALENDAR