BEGIN:VCALENDAR
VERSION:2.0
PRODID:-//Chateauneuf sur Loire en Transition - ECPv6.15.20//NONSGML v1.0//EN
CALSCALE:GREGORIAN
METHOD:PUBLISH
X-ORIGINAL-URL:https://csl-transition.fr
X-WR-CALDESC:Évènements pour Chateauneuf sur Loire en Transition
REFRESH-INTERVAL;VALUE=DURATION:PT1H
X-Robots-Tag:noindex
X-PUBLISHED-TTL:PT1H
BEGIN:VTIMEZONE
TZID:Europe/Paris
BEGIN:DAYLIGHT
TZOFFSETFROM:+0100
TZOFFSETTO:+0200
TZNAME:CEST
DTSTART:20240331T010000
END:DAYLIGHT
BEGIN:STANDARD
TZOFFSETFROM:+0200
TZOFFSETTO:+0100
TZNAME:CET
DTSTART:20241027T010000
END:STANDARD
BEGIN:DAYLIGHT
TZOFFSETFROM:+0100
TZOFFSETTO:+0200
TZNAME:CEST
DTSTART:20250330T010000
END:DAYLIGHT
BEGIN:STANDARD
TZOFFSETFROM:+0200
TZOFFSETTO:+0100
TZNAME:CET
DTSTART:20251026T010000
END:STANDARD
BEGIN:DAYLIGHT
TZOFFSETFROM:+0100
TZOFFSETTO:+0200
TZNAME:CEST
DTSTART:20260329T010000
END:DAYLIGHT
BEGIN:STANDARD
TZOFFSETFROM:+0200
TZOFFSETTO:+0100
TZNAME:CET
DTSTART:20261025T010000
END:STANDARD
END:VTIMEZONE
BEGIN:VEVENT
DTSTART;TZID=Europe/Paris:20250226T163000
DTEND;TZID=Europe/Paris:20250226T190000
DTSTAMP:20260421T205000
CREATED:20250124T100840Z
LAST-MODIFIED:20250124T100934Z
UID:1992-1740587400-1740596400@csl-transition.fr
SUMMARY:Fabrication de Confiture d'hiver
DESCRIPTION:Nous réaliserons une confiture avec des ingrédients locaux et de saison. \nLe 26 février de 16h30 à 19h. Places limitées à 8 personnes.  \nNous essayerons en amont de récupérer des pommes et de la courge (sucrine du Berry ou butternut ou courge de Nice). Nous dire si vous pouvez en avoir\, il en faudrait environ 3 kg de chaque (laisser message au 06 75 51 70 01). Venir avec 2 ou 3 pots à confiture vides pour repartir avec vos pots pleins. Le coût du pot sera modéré et calculé sur place en fonction des achats nécessaires. \nInscription au bar de la Maison de la Transition ou auprès de Laetitia
URL:https://csl-transition.fr/evenement/fabrication-de-confiture-dhiver/
LOCATION:Maison de la Transition\, 9\, Place de la Halle Saint-Pierre\, Châteauneuf-sur-Loire\, 45110\, France
CATEGORIES:Atelier cuisine
ATTACH;FMTTYPE=image/avif:https://csl-transition.fr/wp-content/uploads/2025/01/illustration-confiture-faite-maison-dans-pot-verre_1308-165069.avif
END:VEVENT
END:VCALENDAR